BEGIN:VCALENDAR
PRODID:-//AT Content Types//AT Event//EN
VERSION:2.0
METHOD:PUBLISH
BEGIN:VEVENT
DTSTAMP:20260423T153138Z
CREATED:20130716T155828Z
UID:ATEvent-c907dba710784d38993e2113c1e026e620150104
LAST-MODIFIED:20251023T072746Z
SUMMARY:Mercatino dell'antiquariato
DTSTART:20150103T230000Z
DTEND:20281230T230000Z
DESCRIPTION:Mostra mercato di antiquariato. Si svolge ogni seconda dom
 enica del mese\, escluso agosto\, in Piazza della Repubblica. Partecip
 azione di circa 120 espositori.
CONTACT:0, 5, 2, 2, ., 9, 0, 2, 8, 1, 1, -, 9, 0, 2, 8, 6, 1
CLASS:PUBLIC
END:VEVENT
END:VCALENDAR
