BEGIN:VCALENDAR
PRODID:-//AT Content Types//AT Event//EN
VERSION:2.0
METHOD:PUBLISH
BEGIN:VEVENT
DTSTAMP:20260420T154952Z
CREATED:20260420T093940Z
UID:ATEvent-6b8900ca9a714a1ca68180827826ac5520260503
LAST-MODIFIED:20260420T103942Z
SUMMARY:Reggio Emilia - ricordi del presente
DTSTART:20260502T220000Z
DTEND:20260502T220000Z
DESCRIPTION:Memorie nascoste e arte urbana\, in dialogo con Fotografia
  Europea. Un percorso speciale tra centro storico e area nord della ci
 ttà\, alla scoperta dei luoghi della trasformazione urbana. Dall’op
 era collettiva di Joan Fontcuberta ai Chiostri di San Pietro\, fino al
 lo stadio Mirabello e all’Ex Mangimificio Caffarri\, cammineremo tra
  memoria e contemporaneità\, tra i luoghi che oggi non vediamo nella 
 loro forma originaria e quelli che lentamente vediamo svuotarsi\, tras
 formarsi\, dare spazio a nuovi stimoli e idee. Un itinerario dedicato 
 all’arte urbana\, all’architettura industriale e ai nostri “fant
 asmi del quotidiano”\, in dialogo con il Festival di Fotografia Euro
 pea 2026.
CLASS:PUBLIC
END:VEVENT
END:VCALENDAR
