BEGIN:VCALENDAR
PRODID:-//AT Content Types//AT Event//EN
VERSION:1.0
BEGIN:VEVENT
DTSTART:20260516T220000Z
DTEND:20260517T220000Z
UID:ATEvent-bea71fa2b86b46e588d5dee28e14c0e020260517
SEQUENCE:0
LAST-MODIFIED:20260420T105232Z
SUMMARY:Cimitero Monumentale
DESCRIPTION:Un percorso tra arte\, memoria collettiva e architettura a
 l Cimitero Monumentale di Reggio Emilia\, nato nel Seicento e trasform
 ato nell’Ottocento su progetto di Domenico Marchelli.\nCamminando tr
 a portici\, sculture\, mosaici\, affreschi e sepolture monumentali rea
 lizzati da maestri come Prospero Sorgato e Anselmo Govi\, scopriremo c
 ome questo spazio neoclassico racconti l’identità e il passato dell
 a città attraverso forme artistiche e storie di personaggi illustri.\
 nIngressi: Cimitero Monumentale di Reggio Emilia.
PRIORITY:3
TRANSP:0
END:VEVENT
END:VCALENDAR
