BEGIN:VCALENDAR
PRODID:-//AT Content Types//AT Event//EN
VERSION:2.0
METHOD:PUBLISH
BEGIN:VEVENT
DTSTAMP:20260423T162803Z
CREATED:20130716T160028Z
UID:ATEvent-fdc6d6e26b5d46beaaef705e498e114c20260522
LAST-MODIFIED:20260423T121551Z
SUMMARY:Corteo Storico Matildico
DTSTART:20260521T220000Z
DTEND:20260523T220000Z
DESCRIPTION:Rievocazione storica in tradizionali costumi d’epoca. 60
 ° edizione.
CONTACT:0, 5, 2, 2, ., 2, 4, 9, 2, 1, 1
URL:h, t, t, p, s, :, /, /, w, w, w, ., c, o, r, t, e, o, m, a, t, i, l, d, i, c, o, ., i, t, /
CLASS:PUBLIC
END:VEVENT
END:VCALENDAR
