BEGIN:VCALENDAR
PRODID:-//AT Content Types//AT Event//EN
VERSION:1.0
BEGIN:VEVENT
DTSTART:20260430T220000Z
DTEND:20260530T220000Z
UID:ATEvent-dd4ec682c79c4e63a58dc25e655bd58d20260501
SEQUENCE:0
LAST-MODIFIED:20260423T154619Z
SUMMARY:Maggio 2026 - Calendario Eventi Reggio Emilia e Provincia
DESCRIPTION:Eventi a Reggio Emilia e provincia.
PRIORITY:3
TRANSP:0
END:VEVENT
END:VCALENDAR
