BEGIN:VCALENDAR
PRODID:-//AT Content Types//AT Event//EN
VERSION:2.0
METHOD:PUBLISH
BEGIN:VEVENT
DTSTAMP:20260423T141613Z
CREATED:20130716T155827Z
UID:ATEvent-fed10868397e4b519b94383c22eec6ff20150104
LAST-MODIFIED:20251023T072746Z
SUMMARY:Antique market
DTSTART:20150103T230000Z
DTEND:20281230T230000Z
DESCRIPTION:The market takes place in Piazza della Repubblica on the s
 econd Sunday of each month\, except in August. Participation of about 
 120 exhibitors.
CONTACT:0, 5, 2, 2, ., 9, 0, 2, 8, 1, 1, -, 9, 0, 2, 8, 6, 1
CLASS:PUBLIC
END:VEVENT
END:VCALENDAR
