BEGIN:VCALENDAR
PRODID:-//AT Content Types//AT Event//EN
VERSION:2.0
METHOD:PUBLISH
BEGIN:VEVENT
DTSTAMP:20260420T143304Z
CREATED:20231030T111733Z
UID:ATEvent-e0dfdea8834549faa5a0c37271dff07420241110
LAST-MODIFIED:20241111T084207Z
SUMMARY:San Martein Festival
DTSTART:20241109T230000Z
DTEND:20241109T230000Z
DESCRIPTION:Extraordinary market\, exhibitions\, shows\, gastronomic s
 tands. In the town centre.
CLASS:PUBLIC
END:VEVENT
END:VCALENDAR
