BEGIN:VCALENDAR
PRODID:-//AT Content Types//AT Event//EN
VERSION:2.0
METHOD:PUBLISH
BEGIN:VEVENT
DTSTAMP:20260420T150404Z
CREATED:20260420T103927Z
UID:ATEvent-fc23279600174a739b84f6382ee98a1620260517
LAST-MODIFIED:20260420T105232Z
SUMMARY:Monumental Cemetery
DTSTART:20260516T220000Z
DTEND:20260517T220000Z
DESCRIPTION:A journey through art\, collective memory\, and architectu
 re at the Monumental Cemetery of Reggio Emilia\, founded in the 17th c
 entury and transformed in the 19th century based on a design by Domeni
 co Marchelli. Walking among porticoes\, sculptures\, mosaics\, frescoe
 s\, and monumental tombs created by masters such as Prospero Sorgato a
 nd Anselmo Govi\, we will discover how this neoclassical space tells t
 he story of the city’s identity and past through artistic forms and 
 the lives of notable figures.
CLASS:PUBLIC
END:VEVENT
END:VCALENDAR
