BEGIN:VCALENDAR
PRODID:-//AT Content Types//AT Event//EN
VERSION:2.0
METHOD:PUBLISH
BEGIN:VEVENT
DTSTAMP:20260420T155119Z
CREATED:20260420T093940Z
UID:ATEvent-b727b5cc19c1448481d22406d991f0c120260503
LAST-MODIFIED:20260420T103942Z
SUMMARY:Reggio Emilia - Memories of the Present
DTSTART:20260502T220000Z
DTEND:20260502T220000Z
DESCRIPTION:Hidden memories and urban art in dialogue with Fotografia 
 Europea. A special journey through the historic center and the norther
 n district of the city\, discovering sites of urban transformation. Fr
 om Joan Fontcuberta’s collective artwork at the Chiostri di San Piet
 ro to the Mirabello Stadium and the Ex Mangimificio Caffarri\, we will
  walk between memory and the contemporary.\n\nWe’ll explore spaces t
 hat no longer exist in their original form and those we are witnessing
  slowly empty out and transform\, making room for new stimuli and idea
 s. This itinerary is dedicated to urban art\, industrial architecture\
 , and our "everyday ghosts," all in dialogue with the 2026 Fotografia 
 Europea Festival.
CLASS:PUBLIC
END:VEVENT
END:VCALENDAR
