BEGIN:VCALENDAR
PRODID:-//AT Content Types//AT Event//EN
VERSION:2.0
METHOD:PUBLISH
BEGIN:VEVENT
DTSTAMP:20260421T151859Z
CREATED:20260421T102646Z
UID:ATEvent-15b261c0d3884b5d88881ea00e6b527a20260524
LAST-MODIFIED:20260421T112247Z
SUMMARY:Explorers of the City of the Tricolour
DTSTART:20260523T220000Z
DTEND:20260523T220000Z
DESCRIPTION:On the occasion of Reggionarra\, an exploratory\, child-fr
 iendly visit-game through green areas\, museums\, and squares in the h
 istoric center of Reggio Emilia. Step by step\, young explorers will b
 e guided along a path full of stories and discoveries: they will liste
 n to tales\, closely observe majestic trees—such as the evocative Ce
 dar of Lebanon—encounter curious animals\, and discover symbolic sta
 tues of the city.\nAdmissions: Tricolour Museum and Palazzo dei Musei 
 for Reggionarra stories
CLASS:PUBLIC
END:VEVENT
END:VCALENDAR
