BEGIN:VCALENDAR
PRODID:-//AT Content Types//AT Event//EN
VERSION:2.0
METHOD:PUBLISH
BEGIN:VEVENT
DTSTAMP:20260423T145729Z
CREATED:20130716T160025Z
UID:ATEvent-50b1b49b652848f48d93bad852fe651c20260522
LAST-MODIFIED:20260423T121551Z
SUMMARY:Matildic Historic Parade
DTSTART:20260521T220000Z
DTEND:20260523T220000Z
DESCRIPTION:Historic parade in traditional old costumes. 60th edition.
 
CONTACT:0, 5, 2, 2, ., 2, 4, 9, 2, 1, 1
URL:h, t, t, p, s, :, /, /, w, w, w, ., c, o, r, t, e, o, m, a, t, i, l, d, i, c, o, ., i, t, /
CLASS:PUBLIC
END:VEVENT
END:VCALENDAR
