BEGIN:VCALENDAR
PRODID:-//AT Content Types//AT Event//EN
VERSION:2.0
METHOD:PUBLISH
X-WR-CALNAME:Main Events
X-WR-CALDESC:
BEGIN:VEVENT
DTSTAMP:20260421T175425Z
CREATED:20190220T115045Z
UID:ATEvent-4f9a9753591240a8ab5956a277274a3520260430
LAST-MODIFIED:20260405T100525Z
SUMMARY:European Photography
DTSTART:20260429T220000Z
DTEND:20260613T220000Z
DESCRIPTION:The theme of this edition is "Ghosts of the Moment": exhib
 itions\, installations\, conferences\, meetings\, workshops\, showings
  and performances.
CONTACT:0, 5, 2, 2, ., 4, 4, 4, 4, 4, 6
URL:h, t, t, p, s, :, /, /, w, w, w, ., f, o, t, o, g, r, a, f, i, a, e, u, r, o, p, e, a, ., i, t, /, e, n, /
CLASS:PUBLIC
END:VEVENT
BEGIN:VEVENT
DTSTAMP:20260421T175425Z
CREATED:20260404T153520Z
UID:ATEvent-a3a98e9529454b39a92ab1292964e16d20260430
LAST-MODIFIED:20260421T134341Z
SUMMARY:"Fotografia Europea 2026 experience"
DTSTART:20260429T220000Z
DTEND:20260613T220000Z
DESCRIPTION:Set off for a weekend in Reggio Emilia\, the City of the T
 ricolour\, easily reachable by train\, and let yourself be immersed in
  art\, flavors\, and springtime atmospheres. From April 30 to June 14\
 , 2026\, a stay designed for those who want to discover the city durin
 g the 21st edition of the Fotografia Europea festival.
CLASS:PUBLIC
END:VEVENT
BEGIN:VEVENT
DTSTAMP:20260421T175425Z
CREATED:20220419T090533Z
UID:ATEvent-1022fca1c73b4f249116a2f4b7ec81c820260425
LAST-MODIFIED:20260420T084033Z
SUMMARY:Borgo Plantarum
DTSTART:20260424T220000Z
DTEND:20260919T220000Z
DESCRIPTION:Trade fair for plants and flowers. In Borgo Antico le Viol
 e\, via Rio Viole\, in the village of Telarolo.
URL:h, t, t, p, s, :, /, /, w, w, w, ., b, o, r, g, o, p, l, a, n, t, a, r, u, m, ., c, o, m, /
CLASS:PUBLIC
END:VEVENT
BEGIN:VEVENT
DTSTAMP:20260421T175425Z
CREATED:20210803T141153Z
UID:ATEvent-b8f18dd024224416b5db181fd742e3bd20260508
LAST-MODIFIED:20260416T130632Z
SUMMARY:Internazionale Kids in Reggio Emilia
DTSTART:20260507T220000Z
DTEND:20260509T220000Z
DESCRIPTION:Festival of the monthly magazine Internazionale Kids\, wit
 h the big current issues explained to boys and girls.
URL:h, t, t, p, s, :, /, /, w, w, w, ., i, n, t, e, r, n, a, z, i, o, n, a, l, e, ., i, t, /, n, o, t, i, z, i, e, /, 2, 0, 2, 6, /, 0, 3, /, 2, 0, /, f, e, s, t, i, v, a, l, -, i, n, t, e, r, n, a, z, i, o, n, a, l, e, -, k, i, d, s, -, a, -, r, e, g, g, i, o, -, e, m, i, l, i, a, -, 2, 0, 2, 6
CLASS:PUBLIC
END:VEVENT
BEGIN:VEVENT
DTSTAMP:20260421T175425Z
CREATED:20130716T160528Z
UID:ATEvent-040b1a172a9b4a4285318ef4daf3e2d520260522
LAST-MODIFIED:20260416T130653Z
SUMMARY:Reggionarra
DTSTART:20260521T220000Z
DTEND:20260523T220000Z
DESCRIPTION:Tales which turn Reggio Emilia into the Town of Stories.
URL:h, t, t, p, s, :, /, /, w, w, w, ., r, e, g, g, i, o, n, a, r, r, a, ., i, t, /
CLASS:PUBLIC
END:VEVENT
BEGIN:VEVENT
DTSTAMP:20260421T175425Z
CREATED:20260108T140940Z
UID:ATEvent-c5746587bc2440d7bc1b1b7856fc420120251115
LAST-MODIFIED:20260416T130559Z
SUMMARY:The Genius and the Village. Antonio Ligabue and Umberto Tirelli
DTSTART:20251114T230000Z
DTEND:20261230T230000Z
DESCRIPTION:Exhibition of 15 works by Antonio Ligabue on loan from pri
 vate owners\, displayed on rotation in the Giove and Icaro halls insid
 e Palazzo Bentivoglio\, Piazza Bentivoglio.
URL:h, t, t, p, s, :, /, /, w, w, w, ., t, e, r, r, e, d, i, p, o, e, d, e, i, g, o, n, z, a, g, a, ., i, t, /, e, v, e, n, t, i, /, m, o, s, t, r, e, -, p, a, l, a, z, z, o, -, b, e, n, t, i, v, o, g, l, i, o, /
CLASS:PUBLIC
END:VEVENT
END:VCALENDAR
